BEGIN:VCALENDAR
VERSION:2.0
PRODID:-//pretix//KOHI_Tickets//
BEGIN:VTIMEZONE
TZID:Europe/Berlin
BEGIN:STANDARD
DTSTART:20001029T040000
RRULE:FREQ=YEARLY;BYDAY=-1SU;BYMONTH=10
TZNAME:CET
TZOFFSETFROM:+0200
TZOFFSETTO:+0100
END:STANDARD
BEGIN:DAYLIGHT
DTSTART:20000326T030000
RRULE:FREQ=YEARLY;BYDAY=-1SU;BYMONTH=3
TZNAME:CEST
TZOFFSETFROM:+0100
TZOFFSETTO:+0200
END:DAYLIGHT
END:VTIMEZONE
BEGIN:VEVENT
UID:pretix-kohi-bwslam26-8@tickets.kohi.de
DTSTART;TZID=Europe/Berlin:20260522T000000
DTEND;TZID=Europe/Berlin:20260523T235959
DESCRIPTION:Tickets: https://tickets.kohi.de/bwslam26/8/\nVeranstalter: KOH
 I Kulturraum e.V.
DTSTAMP:20260421T085258Z
LOCATION:Tollhaus 22.5.2026 20:00\, Badische Landesbibliothek 23.5.2026 16:
 00\, Tollhaus 23.5.2026 20:00
SUMMARY:Festivalticket - Poetry-Slam-Meisterschaften Baden-Württemberg Kar
 lsruhe 2026
END:VEVENT
END:VCALENDAR
